BEGIN:VCALENDAR
VERSION:2.0
PRODID: 20260602T190000/30888
CALSCALE:GREGORIAN
METHOD:PUBLISH
BEGIN:VTIMEZONE
TZID:Europe/Prague
BEGIN:STANDARD
END:STANDARD
END:VTIMEZONE
BEGIN:VEVENT
DTSTART:20260602T190000
DTEND:20260602T210000
SUMMARY:ÚČET
LOCATION:Beskydské divadlo, Nový Jičín
DESCRIPTION:Série upřímných zpovědí dokazuje, že mužský svět je nevyzpytatelný.
PRIORITY:3
END:VEVENT
END:VCALENDAR
