BEGIN:VCALENDAR
VERSION:2.0
PRODID: 20260421T103000/32864
CALSCALE:GREGORIAN
METHOD:PUBLISH
BEGIN:VTIMEZONE
TZID:Europe/Prague
BEGIN:STANDARD
END:STANDARD
END:VTIMEZONE
BEGIN:VEVENT
DTSTART:20260421T103000
DTEND:20260421T123000
SUMMARY:Děti Z Bullerbynu 10:30 (1)
LOCATION:Beskydské divadlo, Nový Jičín
DESCRIPTION:My děti z Bullerbynu... 
PRIORITY:3
END:VEVENT
END:VCALENDAR
