BEGIN:VCALENDAR
VERSION:2.0
PRODID: 20260610T190000/33296
CALSCALE:GREGORIAN
METHOD:PUBLISH
BEGIN:VTIMEZONE
TZID:Europe/Prague
BEGIN:STANDARD
END:STANDARD
END:VTIMEZONE
BEGIN:VEVENT
DTSTART:20260610T190000
DTEND:20260610T210000
SUMMARY:MHFLJ - Mezi nebem a zemí
LOCATION:Beskydské divadlo, Nový Jičín
DESCRIPTION:Český filharmonický sbor Brno
PRIORITY:3
END:VEVENT
END:VCALENDAR
