BEGIN:VCALENDAR
VERSION:2.0
PRODID: 20260421T180000/30972
CALSCALE:GREGORIAN
METHOD:PUBLISH
BEGIN:VTIMEZONE
TZID:Europe/Prague
BEGIN:STANDARD
END:STANDARD
END:VTIMEZONE
BEGIN:VEVENT
DTSTART:20260421T180000
DTEND:20260421T200000
SUMMARY:BYLO NÁS PĚT (TENKRÁT)
LOCATION:Beskydské divadlo, Nový Jičín
DESCRIPTION:Máme všech pět pohromadě! 
PRIORITY:3
END:VEVENT
END:VCALENDAR
