BEGIN:VCALENDAR
VERSION:2.0
PRODID: 20260419T160000/31014
CALSCALE:GREGORIAN
METHOD:PUBLISH
BEGIN:VTIMEZONE
TZID:Europe/Prague
BEGIN:STANDARD
END:STANDARD
END:VTIMEZONE
BEGIN:VEVENT
DTSTART:20260419T160000
DTEND:20260419T180000
SUMMARY:DĚTI Z BULLERBYNU
LOCATION:Beskydské divadlo, Nový Jičín
DESCRIPTION:Lasse, Bosse, Olle, Britta, Anna a Lisa sáňkují, spí na seníku, bruslí na jezeře, krotí berana…
PRIORITY:3
END:VEVENT
END:VCALENDAR
