BEGIN:VCALENDAR
VERSION:2.0
PRODID: 20260510T160000/31038
CALSCALE:GREGORIAN
METHOD:PUBLISH
BEGIN:VTIMEZONE
TZID:Europe/Prague
BEGIN:STANDARD
END:STANDARD
END:VTIMEZONE
BEGIN:VEVENT
DTSTART:20260510T160000
DTEND:20260510T180000
SUMMARY:Nádherné úterý
LOCATION:Beskydské divadlo, Nový Jičín
DESCRIPTION:Poetický příběh přivádí děti do kouzelného světa plného laskavosti, přátelství a radosti. 
PRIORITY:3
END:VEVENT
END:VCALENDAR
