BEGIN:VCALENDAR
VERSION:2.0
PRODID: 20260525T190000/33976
CALSCALE:GREGORIAN
METHOD:PUBLISH
BEGIN:VTIMEZONE
TZID:Europe/Prague
BEGIN:STANDARD
END:STANDARD
END:VTIMEZONE
BEGIN:VEVENT
DTSTART:20260525T190000
DTEND:20260525T210000
SUMMARY:V závěji
LOCATION:Beskydské divadlo, Nový Jičín
DESCRIPTION:Smršť dialogů a situací, kde nelze jen tak předvídat, co všechno se ještě může stát.
PRIORITY:3
END:VEVENT
END:VCALENDAR
