BEGIN:VCALENDAR
VERSION:2.0
PRODID: 20260528T190000/33986
CALSCALE:GREGORIAN
METHOD:PUBLISH
BEGIN:VTIMEZONE
TZID:Europe/Prague
BEGIN:STANDARD
END:STANDARD
END:VTIMEZONE
BEGIN:VEVENT
DTSTART:20260528T190000
DTEND:20260528T210000
SUMMARY:Hrdý Budžes
LOCATION:Beskydské divadlo, Nový Jičín
DESCRIPTION:Barbora Hrzánová v léty ověřené inscenaci. 
PRIORITY:3
END:VEVENT
END:VCALENDAR
