BEGIN:VCALENDAR
VERSION:2.0
PRODID: 20260429T180000/34015
CALSCALE:GREGORIAN
METHOD:PUBLISH
BEGIN:VTIMEZONE
TZID:Europe/Prague
BEGIN:STANDARD
END:STANDARD
END:VTIMEZONE
BEGIN:VEVENT
DTSTART:20260429T180000
DTEND:20260429T200000
SUMMARY:Dubnová taneční scéna (2)
LOCATION:Beskydské divadlo, Nový Jičín
DESCRIPTION:Vystoupení žáků tanečního oboru ZUŠ Nový Jičín ze třídy Ilony Rudelové a Miluše Říhové.
PRIORITY:3
END:VEVENT
END:VCALENDAR
